BEGIN:VCALENDAR
VERSION:2.0
PRODID:-//Lake Chad Basin Commission - ECPv6.15.17//NONSGML v1.0//EN
CALSCALE:GREGORIAN
METHOD:PUBLISH
X-ORIGINAL-URL:https://cblt.org
X-WR-CALDESC:Évènements pour Lake Chad Basin Commission
REFRESH-INTERVAL;VALUE=DURATION:PT1H
X-Robots-Tag:noindex
X-PUBLISHED-TTL:PT1H
BEGIN:VTIMEZONE
TZID:Africa/Lagos
BEGIN:STANDARD
TZOFFSETFROM:+0100
TZOFFSETTO:+0100
TZNAME:WAT
DTSTART:20170101T000000
END:STANDARD
END:VTIMEZONE
BEGIN:VEVENT
DTSTART;TZID=Africa/Lagos:20180201T080000
DTEND;TZID=Africa/Lagos:20251231T170000
DTSTAMP:20260425T124041
CREATED:20260211T111816Z
LAST-MODIFIED:20260211T111816Z
UID:8499-1517472000-1767200400@cblt.org
SUMMARY:Programme de développement durable du bassin du lac Tchad (PRODEBALT)
DESCRIPTION:Le Programme de développement durable du bassin du lac Tchad (PRODEBALT) est l’une des réponses aux problèmes graves auxquels sont confrontées…
URL:https://cblt.org/fr/event/programme-de-developpement-durable-du-bassin-du-lac-tchad-prodebalt/
CATEGORIES:projectfr
ATTACH;FMTTYPE=image/png:https://cblt.org/wp-content/uploads/2026/01/Group-198-1.png
END:VEVENT
BEGIN:VEVENT
DTSTART;TZID=Africa/Lagos:20180301T080000
DTEND;TZID=Africa/Lagos:20250930T170000
DTSTAMP:20260425T124041
CREATED:20260211T111310Z
LAST-MODIFIED:20260211T111310Z
UID:8495-1519891200-1759251600@cblt.org
SUMMARY:Gestion durable des ressources en eau du bassin du lac Tchad (BGR)
DESCRIPTION:Overview\n\n\nThis module is part of the broader technical cooperation between the Lake Chad Basin Commission (LCBC) and the Federal Institute for Geosciences and Natural Resources (BGR)\, funded by the German Federal Ministry for Economic Cooperation and Development (BMZ). The project supports LCBC in strengthening its competencies for transboundary groundwater resource management in the Lake Chad Basin.
URL:https://cblt.org/fr/event/gestion-durable-des-ressources-en-eau-du-bassin-du-lac-tchad-bgr/
CATEGORIES:projectfr
ATTACH;FMTTYPE=image/png:https://cblt.org/wp-content/uploads/2026/01/Group-199-1.png
END:VEVENT
BEGIN:VEVENT
DTSTART;TZID=Africa/Lagos:20210101T000000
DTEND;TZID=Africa/Lagos:20251231T000000
DTSTAMP:20260425T124041
CREATED:20260211T100139Z
LAST-MODIFIED:20260212T115209Z
UID:8473-1609459200-1767139200@cblt.org
SUMMARY:Projet PROLAC – Projet de relèvement et de développement de la région du lac Tchad
DESCRIPTION:Projet de reconstruction et de développement de la région du lac Tchad (Projet PROLAC-CBLT)\nAperçu\nLe projet de redressement et de développement de la région du lac Tchad (PROLAC) est une initiative régionale financée par la Banque mondiale via l’Association internationale de développement (IDA)\, visant à soutenir la reconstruction et la résilience des communautés du bassin du lac Tchad. Le projet est mis en œuvre par la Commission du bassin du lac Tchad (LCBC) en collaboration avec les gouvernements nationaux du Cameroun\, du Tchad et du Niger. \nObjectif\nContribuer à la reconstruction de la région du lac Tchad en soutenant la coordination régionale et le suivi des crises\, en améliorant la connectivité et en renforçant les moyens de subsistance agricoles dans certaines provinces du Cameroun\, du Tchad et du Niger. \nComposant exécuté par LCBC\nComposante 1 : Plateforme régionale de connaissance et de suivi du lac Tchad et secrétariat pour le développement de la région du lac Tchad\nBudget : 5 millions de dollars US (part de LCBC) \nObjectif : Renforcer le dialogue régional\, le suivi et la diffusion des données\, l’engagement citoyen et la cohésion sociale par la création d’une plateforme régionale de connaissances et de suivi. \nActivités clés :\n\nCréation de l’Unité de mise en œuvre du projet PROLAC (PIU) du LCBC\, :\n\nCoordonne le dialogue régional et la vision de développement.\nFacilite la création et la diffusion des connaissances.\nOrganise des ateliers d’apprentissage et de suivi.\n\n\nDéveloppement de la plateforme de connaissances et de suivi :\n\nPlateforme hébergée en web intégrant des ensembles de données spatiaux et temporels.\nCollaboration avec des institutions académiques et de recherche.\nRenforcement des capacités dans la collecte de données et l’analyse géospatiale.\n\n\nForum international annuel sur le développement de la région du lac Tchad :\n\nÉvénement de haut niveau réunissant les parties prenantes des États membres\, des partenaires de développement et des autorités locales.\nPlateforme pour le rapport\, l’harmonisation des stratégies et la planification de nouvelles initiatives.\n\n\nSoutien au Comité de Coordination Régional (CCR) :\n\nAssure la supervision et les conseils stratégiques.\nPrépare des plans d’action et des déclarations conjoints.\n\n\n\nRésultats attendus :\n \n\nPlateforme opérationnelle régionale de connaissances.\nAccès accru aux données de développement.\nRenforcement de la coopération régionale et de l’harmonisation des politiques.\nRenforcement de la capacité du LCBC en tant qu’organisme régional de coordination.\n\nThèmes croisés\n\nInclusion de genre : Garantir une participation de 50 % des femmes aux activités de projet et aux organes décisionnels.\nEngagement des jeunes : Soutien ciblé pour les jeunes par la formation et les opportunités d’emploi.\nRésilience climatique : Intégration de pratiques et de données intelligentes face au climat dans la planification et la mise en œuvre.\n\nAlignement avec les cadres stratégiques\n\nStratégie régionale pour la stabilisation\, la reprise et la résilience (RSS)\nStratégie de la Banque mondiale pour la fragilité\, le conflit et la violence (2020–2025)\nCadres de partenariat pays (CPF) pour le Cameroun\, le Tchad et le Niger\n\nContact\nAgence de mise en œuvre : Commission du bassin du lac Tchad (LCBC) \nLieu : N’Djamena\, Tchad \nEmail : PROLAC-CBLT@cblt.org \nCoordinateur : Alio Abdoulaye \n 
URL:https://cblt.org/fr/event/8473/
CATEGORIES:projectfr
ATTACH;FMTTYPE=image/png:https://cblt.org/wp-content/uploads/2026/02/Menu-1.png
END:VEVENT
END:VCALENDAR